BEGIN:VCALENDAR
VERSION:2.0
PRODID:-//http://tainiothiki.gr///NONSGML kigkonsult.se iCalcreator 2.10.15//
METHOD:PUBLISH
BEGIN:VEVENT
UID:20260426T023607EEST-1406KTGMxS@http://tainiothiki.gr/
DTSTAMP:20260425T233607Z
DESCRIPTION:ΘΕΡΙΝΟΣ ΚΙΝΗΜΑΤΟΓΡΑΦΟΣ ΛΑΪΣ\nΣΑΒΒΑΤΟ 02/10\n27Ο ΔΙΕΘΝΕΣ ΦΕΣΤΙΒΑ
 Λ ΚΙΝΗΜΑΤΟΓΡΑΦΟΥ ΝΥΧΤΕΣ ΠΡΕΜΙΕΡΑΣ\n19:45 ΜΙΑ ΤΕΛΕΥΤΑΙΑ ΑΘΩΑ ΝΥΧΤΑ / A NIGH
 T OF KNOWING NOTHING   ΓΑΛΛΙΑ / ΙΝΔΙΑ | 2021 | 96' | ΣΚΗΝΟΘΕΣΙΑ:  Πάιαλ Κα
 πάντια\n\n\nΠερισσότερες πληροφορίες και εισιτήρια: 27Ο ΔΙΕΘΝΕΣ ΦΕΣΤΙΒΑΛ Κ
 ΙΝΗΜΑΤΟΓΡΑΦΟΥ ΝΥΧΤΕΣ ΠΡΕΜΙΕΡΑΣ \n http://tainiothiki.gr/en/programme/calen
 dar/event/289-a-night-of-knowing-nothing
DTSTART:20211002T164500Z
DTEND:20211002T182000Z
LOCATION:Θερινό Λαΐς (ΙΕΡΑ ΟΔΟΣ 48\, 104 35\, ΚΕΡΑΜΕΙΚΟΣ\, ΑΘΗΝΑ	)
SUMMARY:ΜΙΑ ΤΕΛΕΥΤΑΙΑ ΑΘΩΑ ΝΥΧΤΑ / A NIGHT OF KNOWING NOTHING 
URL:http://tainiothiki.gr/en/programme/calendar/event/289-a-night-of-knowin
 g-nothing
END:VEVENT
END:VCALENDAR
