BEGIN:VCALENDAR
VERSION:2.0
PRODID:-//http://tainiothiki.gr///NONSGML kigkonsult.se iCalcreator 2.10.15//
METHOD:PUBLISH
BEGIN:VEVENT
UID:20260426T023336EEST-4934cBIn5s@http://tainiothiki.gr/
DTSTAMP:20260425T233336Z
DESCRIPTION:ΘΕΡΙΝΟΣ ΚΙΝΗΜΑΤΟΓΡΑΦΟΣ ΛΑΪΣ\nΚΥΡΙΑΚΗ 03/10\n27Ο ΔΙΕΘΝΕΣ ΦΕΣΤΙΒΑ
 Λ ΚΙΝΗΜΑΤΟΓΡΑΦΟΥ ΝΥΧΤΕΣ ΠΡΕΜΙΕΡΑΣ\n19:30 ΑΟΡΑΤΟΙ ΔΑΙΜΟΝΕΣ / INVISIBLE DEMO
 NS   ΙΝΔΙΑ / ΦΙΝΛΑΝΔΙΑ / ΓΕΡΜΑΝΙΑ | 2021 | 70' | ΣΚΗΝΟΘΕΣΙΑ:  Ραχούλ Τζέιν
 \n\n\nΠερισσότερες πληροφορίες και εισιτήρια: 27Ο ΔΙΕΘΝΕΣ ΦΕΣΤΙΒΑΛ ΚΙΝΗΜΑΤ
 ΟΓΡΑΦΟΥ ΝΥΧΤΕΣ ΠΡΕΜΙΕΡΑΣ \n http://tainiothiki.gr/en/programme/calendar/ev
 ent/291-invisible-demons
DTSTART:20211003T163000Z
DTEND:20211003T174000Z
LOCATION:Θερινό Λαΐς (ΙΕΡΑ ΟΔΟΣ 48\, 104 35\, ΚΕΡΑΜΕΙΚΟΣ\, ΑΘΗΝΑ	)
SUMMARY:ΑΟΡΑΤΟΙ ΔΑΙΜΟΝΕΣ / INVISIBLE DEMONS 
URL:http://tainiothiki.gr/en/programme/calendar/event/291-invisible-demons
END:VEVENT
END:VCALENDAR
