BEGIN:VCALENDAR
VERSION:2.0
PRODID:-//http://tainiothiki.gr///NONSGML kigkonsult.se iCalcreator 2.10.15//
METHOD:PUBLISH
BEGIN:VEVENT
UID:20260426T023452EEST-8005epV7u2@http://tainiothiki.gr/
DTSTAMP:20260425T233452Z
DESCRIPTION:ΑΙΘΟΥΣΑ Α\nΑφιέρωμα Φεντερίκο Φελίνι \nΤΕΤΑΡΤΗ 13/10\n\n19:45 Η
  φωνή του φεγγαριού | La voce della Luna (120' \, 1990\, Federico Fellini)
 \n\n\nΕίσοδος για το Αφιέρωμα Φεντερίκο Φελίνι: Εισιτήριο: 5€ Πακέτο 5 ται
 νιών: 10€  Πακέτο 10 ταινιών: 30€\nΚατεβάστε τον κατάλογο εδώ\nΚατεβάστε τ
 ο πρόγραμμα προβολών εδώ\n http://tainiothiki.gr/en/programme/calendar/eve
 nt/304-la-voce-della-luna
DTSTART:20211013T164500Z
DTEND:20211013T184500Z
LOCATION:Αίθουσα Α (ΙΕΡΑ ΟΔΟΣ 48\, 104 35\, ΚΕΡΑΜΕΙΚΟΣ\, ΑΘΗΝΑ)
SUMMARY:Η φωνή του φεγγαριού | La voce della Luna
URL:http://tainiothiki.gr/en/programme/calendar/event/304-la-voce-della-lun
 a
END:VEVENT
END:VCALENDAR
