BEGIN:VCALENDAR
VERSION:2.0
PRODID:-//http://tainiothiki.gr///NONSGML kigkonsult.se iCalcreator 2.10.15//
METHOD:PUBLISH
BEGIN:VEVENT
UID:20260426T023616EEST-3373nwedHT@http://tainiothiki.gr/
DTSTAMP:20260425T233616Z
DESCRIPTION:ΑΙΘΟΥΣΑ Α\nΑφιέρωμα Φεντερίκο Φελίνι \nΠΕΜΠΤΗ 14/10\n\n\n\n\n19
 .45 Η Ιουλιέτα των πνευμάτων | Giulietta degli spiriti (140’\, 1965\, Fede
 rico Fellini)\n\n\n\n\n\n\nΕίσοδος για το Αφιέρωμα Φεντερίκο Φελίνι: Εισιτ
 ήριο: 5€ Πακέτο 5 ταινιών: 10€  Πακέτο 10 ταινιών: 30€\nΚατεβάστε τον κατά
 λογο εδώ\nΚατεβάστε το πρόγραμμα προβολών εδώ\n http://tainiothiki.gr/en/p
 rogramme/calendar/event/306-giulietta-degli-spiriti
DTSTART:20211014T164500Z
DTEND:20211014T185500Z
LOCATION:Αίθουσα Α (ΙΕΡΑ ΟΔΟΣ 48\, 104 35\, ΚΕΡΑΜΕΙΚΟΣ\, ΑΘΗΝΑ)
SUMMARY:Η Ιουλιέτα των πνευμάτων | Giulietta degli spiriti
URL:http://tainiothiki.gr/en/programme/calendar/event/306-giulietta-degli-s
 piriti
END:VEVENT
END:VCALENDAR
