BEGIN:VCALENDAR
VERSION:2.0
PRODID:-//http://tainiothiki.gr///NONSGML kigkonsult.se iCalcreator 2.10.15//
METHOD:PUBLISH
BEGIN:VEVENT
UID:20260426T023850EEST-29630ciB1m@http://tainiothiki.gr/
DTSTAMP:20260425T233850Z
DESCRIPTION:ΑΙΘΟΥΣΑ Α\nΑφιέρωμα Φεντερίκο Φελίνι \nΠΑΡΑΣΚΕΥΗ 15/10\n\n\n\n
 \n\n\n\n\n\n\n\n\n\n22:00 Αμαρκόρντ | Amarcord (123'\, 1973\, Federico Fel
 lini)\nΠρολογίζει ο κριτικός κινηματογράφου Γιάννης Ζουμπουλάκης\n\n\n\n\n
 \n\n\n\n\n\n\n\n\n\n\n\n\n\n\n\n\n\n\nΕίσοδος για το Αφιέρωμα Φεντερίκο Φε
 λίνι: Εισιτήριο: 5€ Πακέτο 5 ταινιών: 10€  Πακέτο 10 ταινιών: 30€\nΚατεβάσ
 τε τον κατάλογο εδώ\nΚατεβάστε το πρόγραμμα προβολών εδώ\n http://tainioth
 iki.gr/en/programme/calendar/event/309-amarcord
DTSTART:20211015T190000Z
DTEND:20211015T205900Z
LOCATION:Αίθουσα Α (ΙΕΡΑ ΟΔΟΣ 48\, 104 35\, ΚΕΡΑΜΕΙΚΟΣ\, ΑΘΗΝΑ)
SUMMARY:Αμαρκόρντ | Amarcord 
URL:http://tainiothiki.gr/en/programme/calendar/event/309-amarcord
END:VEVENT
END:VCALENDAR
