BEGIN:VCALENDAR
VERSION:2.0
PRODID:-//http://tainiothiki.gr///NONSGML kigkonsult.se iCalcreator 2.10.15//
METHOD:PUBLISH
BEGIN:VEVENT
UID:20260426T023447EEST-3103UPluna@http://tainiothiki.gr/
DTSTAMP:20260425T233447Z
DESCRIPTION:ΑΙΘΟΥΣΑ Α\nΑφιέρωμα Φεντερίκο Φελίνι \nΣΑΒΒΑΤΟ 16/10\n\n\n\n\n
 \n\n\n\n\n\n\n\n\n\n\n\n\n22:00 Σατυρικόν | Fellini - Satyricon (128'\, 19
 69\, Federico Fellini)\nΠρολογίζει η δημοσιογράφος Ελεωνόρα Ορφανίδου\n\n
 \n\n\n\n\n\n\n\n\n\n\n\n\n\n\n\n\nΕίσοδος για το Αφιέρωμα Φεντερίκο Φελίνι
 : Εισιτήριο: 5€ Πακέτο 5 ταινιών: 10€  Πακέτο 10 ταινιών: 30€\nΚατεβάστε τ
 ον κατάλογο εδώ\nΚατεβάστε το πρόγραμμα προβολών εδώ\n http://tainiothiki.
 gr/en/programme/calendar/event/311-fellini-satyricon
DTSTART:20211016T190000Z
DTEND:20211016T205900Z
LOCATION:Αίθουσα Α (ΙΕΡΑ ΟΔΟΣ 48\, 104 35\, ΚΕΡΑΜΕΙΚΟΣ\, ΑΘΗΝΑ)
SUMMARY:Σατυρικόν | Fellini - Satyricon
URL:http://tainiothiki.gr/en/programme/calendar/event/311-fellini-satyricon
END:VEVENT
END:VCALENDAR
