BEGIN:VCALENDAR
VERSION:2.0
PRODID:-//http://tainiothiki.gr///NONSGML kigkonsult.se iCalcreator 2.10.15//
METHOD:PUBLISH
BEGIN:VEVENT
UID:20260426T023910EEST-27759mSfdh@http://tainiothiki.gr/
DTSTAMP:20260425T233910Z
DESCRIPTION:ΑΙΘΟΥΣΑ Α\nΤο Φεστιβάλ Δράμας ταξιδεύει στην Αθήνα \nΤΕΤΑΡΤΗ 27
 /10\n17:30   Ελληνικό Διαγωνιστικό - Greek Competition\nΒαθύκοφτο | Vathik
 ofto (Ελλάδα\, Ιωάννα Κρυωνά\, 21’)\nSea you (Ελλάδα\, Γιάννης Βασιλώττος\
 , 7’)\nA summer place (Ελλάδα\, Αλεξάνδρα Ματθαίου\, 21’)\nΔεν θέλω να ξεχ
 άσω τίποτα | I don’t want to forget anything (Ελλάδα\, Βαγγελιώ Σουμέλη\, 
 5’)\nSoul food (Ελλάδα\, Νίκος Τσεμπερόπουλος\, 24’)\nΌλα τα πλάσματα της 
 νύχτας | Creatures of the night (Ελλάδα\, Μέμη Κούπα\, 15’)\n\n\n\nΤο Φεστ
 ιβάλ Δράμας ταξιδεύει στην ΑθήναΕίσοδος για το Φεστιβάλ Δράμας στην Ταινιο
 θήκη της Ελλάδος: 5€\nΚατεβάστε το πρόγραμμα εδώ\nΠερισσότερα http://taini
 othiki.gr/en/programme/calendar/event/342-greek-competition
DTSTART:20211027T143000Z
DTEND:20211027T160000Z
LOCATION:Αίθουσα Α (ΙΕΡΑ ΟΔΟΣ 48\, 104 35\, ΚΕΡΑΜΕΙΚΟΣ\, ΑΘΗΝΑ)
SUMMARY:Ελληνικό Διαγωνιστικό - Greek Competition
URL:http://tainiothiki.gr/en/programme/calendar/event/342-greek-competition
END:VEVENT
END:VCALENDAR
