BEGIN:VCALENDAR
VERSION:2.0
PRODID:-//http://tainiothiki.gr///NONSGML kigkonsult.se iCalcreator 2.10.15//
METHOD:PUBLISH
BEGIN:VEVENT
UID:20260426T024012EEST-1342OvSXm0@http://tainiothiki.gr/
DTSTAMP:20260425T234012Z
DESCRIPTION:ΑΙΘΟΥΣΑ Α\nΤο Φεστιβάλ Δράμας ταξιδεύει στην Αθήνα \nΤΕΤΑΡΤΗ 27
 /10\n22:00   Ελληνικό Διαγωνιστικό - Greek Competition\nΑπό το μπαλκόνι | 
 From the balcony (Ελλάδα\, Άρης Καπλανίδης\, 12’)\nEvery Sunday (Ελλάδα\, 
 Καίτη Παπαδήμα\, 24’)\nLiteral legend (Ελλάδα\, Δημήτρης Τσακαλέας\, Λήδα 
 Βαρτζιώτη\, 10’)\nGirlhood (Ελλάδα\, Βάνια Τέρνερ\, Μαρία Σιδηροπούλου\, 3
 0’)\nΒίωμα καλοσύνης | Experience of goodness (Ελλάδα\, Ελένη Αλεξανδράκη\
 , 8’)\nExploitation (Ελλάδα\, Μαρίνα Συμεού\, 15’)\n\n\n\nΤο Φεστιβάλ Δράμ
 ας ταξιδεύει στην ΑθήναΕίσοδος για το Φεστιβάλ Δράμας στην Ταινιοθήκη της 
 Ελλάδος: 5€\nΚατεβάστε το πρόγραμμα εδώ\nΠερισσότερα http://tainiothiki.gr
 /en/programme/calendar/event/344-greek-competition
DTSTART:20211027T190000Z
DTEND:20211027T204000Z
LOCATION:Αίθουσα Α (ΙΕΡΑ ΟΔΟΣ 48\, 104 35\, ΚΕΡΑΜΕΙΚΟΣ\, ΑΘΗΝΑ)
SUMMARY:Ελληνικό Διαγωνιστικό - Greek Competition
URL:http://tainiothiki.gr/en/programme/calendar/event/344-greek-competition
END:VEVENT
END:VCALENDAR
