BEGIN:VCALENDAR
VERSION:2.0
PRODID:-//http://tainiothiki.gr///NONSGML kigkonsult.se iCalcreator 2.10.15//
METHOD:PUBLISH
BEGIN:VEVENT
UID:20260425T164434EEST-2040vEo0pC@http://tainiothiki.gr/
DTSTAMP:20260425T134434Z
DESCRIPTION:ΘΕΡΙΝΟΣ ΚΙΝΗΜΑΤΟΓΡΑΦΟΣ ΛΑΪΣ \nΔΕΥΤΕΡΑ 23/05\nΑΣΙΦΑ ΕΛΛΑΣ - ΒΡΑΒ
 ΕΙΑ ΣΤΡΑΤΟΣ ΣΤΑΣΙΝΟΣ 2021\n19.30 Προσέλευση\nΑπονομή Βραβείων - Προβολές β
 ραβείων\nΘα ακολουθήσει κέρασμα\nΕίσοδος ελεύθερη\nhttps://asifahellas.eu
 \n http://tainiothiki.gr/en/programme/calendar/event/580-2021
DTSTART:20220523T163000Z
DTEND:20220523T183000Z
LOCATION:Θερινό Λαΐς (ΙΕΡΑ ΟΔΟΣ 48\, 104 35\, ΚΕΡΑΜΕΙΚΟΣ\, ΑΘΗΝΑ	)
SUMMARY:ΑΣΙΦΑ ΕΛΛΑΣ - ΒΡΑΒΕΙΑ ΣΤΡΑΤΟΣ ΣΤΑΣΙΝΟΣ 2021
URL:http://tainiothiki.gr/en/programme/calendar/event/580-2021
END:VEVENT
END:VCALENDAR
