BEGIN:VCALENDAR
VERSION:2.0
PRODID:-//http://tainiothiki.gr///NONSGML kigkonsult.se iCalcreator 2.10.15//
METHOD:PUBLISH
BEGIN:VEVENT
UID:20260425T164948EEST-6062BPzEVv@http://tainiothiki.gr/
DTSTAMP:20260425T134948Z
DESCRIPTION:ΑΙΘΟΥΣΑ Β\nRESTORED AND BEAUTIFUL\n22:15 Είχαμε αγαπηθεί τόσο /
  C’eravamo tanto amatiEttore Scola\, 1974\, Μυθοπλασία / Fiction\, 125’\n•
  Κατεβάστε τον Κατάλογο του 12ου ΦΠΚΑ εδώ / Download the 12th AAGFF Catalo
 gue here\n• Κατεβάστε το Ωρολόγιο Πρόγραμμα του 12ου ΦΠΚΑ εδώ / Download t
 he 12th AAGFF Screening Schedule here\n\nΕισιτήρια (ΑΙΘΟΥΣΕΣ): 5€ (γενική 
 είσοδος) / Tickets (VENUES): 5€ (general entrance)Πακέτα: 5 προβολές/20€\,
  10 προβολές/30€ / Bundles: 5 screenings/20€\, 10 screenings/30€.Προσφορά:
  Φοιτητικό - Παιδικό – ΑμεΑ -Ανέργοι - Ατέλειες - Άνω των 65 ετών: 10 προβ
 ολές/25€ / Offer: Students – Children – Disabled – Unemployed – Disadvanta
 ged – 65+: 10 screenings/25 euros. http://tainiothiki.gr/en/programme/cale
 ndar/event/600-c-eravamo-tanto-amati
DTSTART:20220528T191500Z
DTEND:20220528T213000Z
LOCATION:Αίθουσα Β (ΙΕΡΑ ΟΔΟΣ 48\, 104 35\, ΚΕΡΑΜΕΙΚΟΣ\, ΑΘΗΝΑ)
SUMMARY:Είχαμε αγαπηθεί τόσο / C’eravamo tanto amati
URL:http://tainiothiki.gr/en/programme/calendar/event/600-c-eravamo-tanto-a
 mati
END:VEVENT
END:VCALENDAR
