BEGIN:VCALENDAR
VERSION:2.0
PRODID:-//http://tainiothiki.gr///NONSGML kigkonsult.se iCalcreator 2.10.15//
METHOD:PUBLISH
BEGIN:VEVENT
UID:20260425T151137EEST-59511mUOpt@http://tainiothiki.gr/
DTSTAMP:20260425T121137Z
DESCRIPTION:Ο κινηματογραφικός Καμπανέλλης\nΘΕΡΙΝΟΣ ΚΙΝΗΜΑΤΟΓΡΑΦΟΣ ΛΑΪΣ\n\n
 \n\n\n\n\n\n\n\n\n\n\nΣΑΒΒΑΤΟ 25 ΙΟΥΝΙΟΥ\n\n\n\n\n\n\n\n\n\n\n\n\n\n\n\n\n
 \n\n\n\n\n\n\n\n21.00 ΣτέλλαΜιχάλης Κακογιάννης\, 1955\, 90'\nΠρολογίζ
 ει ο Γιάννης Σολδάτος\n\n\n\n\n\n\n\n\n \n\n\n\n\n\n\n\n\n\nΓενική είσοδ
 ος: 5€ από το ταμείο του κινηματογράφου (ανοικτό μία ώρα πριν την έναρξη τ
 ων προβολών) και ηλεκτρονικά από το https://tickets.tainiothiki.gr/\nΚατεβ
 άστε τον κατάλογο του αφιερώματος εδώ\n\n\n\n\n http://tainiothiki.gr/en/p
 rogramme/calendar/event/681-
DTSTART:20220625T180000Z
DTEND:20220625T193000Z
LOCATION:Θερινό Λαΐς (ΙΕΡΑ ΟΔΟΣ 48\, 104 35\, ΚΕΡΑΜΕΙΚΟΣ\, ΑΘΗΝΑ	)
SUMMARY:Στέλλα
URL:http://tainiothiki.gr/en/programme/calendar/event/681-
END:VEVENT
END:VCALENDAR
