BEGIN:VCALENDAR
VERSION:2.0
PRODID:-//http://tainiothiki.gr///NONSGML kigkonsult.se iCalcreator 2.10.15//
METHOD:PUBLISH
BEGIN:VEVENT
UID:20260425T133742EEST-4289u5lFSe@http://tainiothiki.gr/
DTSTAMP:20260425T103742Z
DESCRIPTION:Ο κινηματογραφικός Καμπανέλλης\nΘΕΡΙΝΟΣ ΚΙΝΗΜΑΤΟΓΡΑΦΟΣ ΛΑΪΣ\n\n
 \n\n\n\n\n\n\n\n\n\n\n\n\n\n\n\n\n\n\nΔΕΥΤΕΡΑ 27 ΙΟΥΝΙΟΥ\n21.00 H έβδομη 
 μέρα της δημιουργίαςΒασίλης Γεωργιάδης\, 1956\, 120'\n\n\n\n\n\n\n\n\n
 \n\n\n\n\n\n\n\n\n\n\n\n\n\n\n\n\n\n\n\n\n\n\n\n\n\n\n\n\n\n\n\n\n\n\n\n\n
 \n\n\nΠρολογίζει η Λιζιάννα Δελβερούδη\n\n\n\n\n\n\n\n\n\n\n\n\n\n\n\n
 \n\n\n\n\n\n\n\n\n\n\n\n\n\n\n\n\n\n\nΓενική είσοδος: 5€ από το ταμείο του
  κινηματογράφου (ανοικτό μία ώρα πριν την έναρξη των προβολών) και ηλεκτρο
 νικά από το https://tickets.tainiothiki.gr/\nΚατεβάστε τον κατάλογο του αφ
 ιερώματος εδώ\n\n\n\n\n http://tainiothiki.gr/en/programme/calendar/event/
 685-h
DTSTART:20220627T180000Z
DTEND:20220627T200000Z
LOCATION:Θερινό Λαΐς (ΙΕΡΑ ΟΔΟΣ 48\, 104 35\, ΚΕΡΑΜΕΙΚΟΣ\, ΑΘΗΝΑ	)
SUMMARY:H έβδομη μέρα της δημιουργίας
URL:http://tainiothiki.gr/en/programme/calendar/event/685-h
END:VEVENT
END:VCALENDAR
