BEGIN:VCALENDAR
VERSION:2.0
PRODID:-//http://tainiothiki.gr///NONSGML kigkonsult.se iCalcreator 2.10.15//
METHOD:PUBLISH
BEGIN:VEVENT
UID:20260425T133742EEST-7552kJHndB@http://tainiothiki.gr/
DTSTAMP:20260425T103742Z
DESCRIPTION:Ο κινηματογραφικός Καμπανέλλης\nΘΕΡΙΝΟΣ ΚΙΝΗΜΑΤΟΓΡΑΦΟΣ ΛΑΪΣ\n\n
 \n\n\n\n\n\n\n\n\n\n\n\n\n\n\n\n\n\n\nΔΕΥΤΕΡΑ 27 ΙΟΥΝΙΟΥ\n\n\n\n\n23.15 Το
  μονόγραμμα: Ιάκωβος ΚαμπανέλληςΉρώ Σγουράκη\, 2005\, 60’\n\n\n\n\n
 \n\n\n\n\n\n\n\n\n\n\n\n\n\n\n\n\n\n\n\n\n\n\n\n\n\n\n\n\n\n\n\n\n\n\n\n\n
 \n\n\n\n\n\n\n\n\n\n\n\n\n\n\n\n\n\n\n\n\n\n\n\n\n\n\n\n\n\n\n\n\n\n\n\n\n
 Γενική είσοδος: 5€ από το ταμείο του κινηματογράφου (ανοικτό μία ώρα πριν 
 την έναρξη των προβολών) και ηλεκτρονικά από το https://tickets.tainiothik
 i.gr/\nΚατεβάστε τον κατάλογο του αφιερώματος εδώ\n\n\n\n\n http://tainiot
 hiki.gr/en/programme/calendar/event/686-
DTSTART:20220627T201500Z
DTEND:20220627T205900Z
LOCATION:Θερινό Λαΐς (ΙΕΡΑ ΟΔΟΣ 48\, 104 35\, ΚΕΡΑΜΕΙΚΟΣ\, ΑΘΗΝΑ	)
SUMMARY:Το μονόγραμμα: Ιάκωβος Καμπανέλλης
URL:http://tainiothiki.gr/en/programme/calendar/event/686-
END:VEVENT
END:VCALENDAR
