BEGIN:VCALENDAR
VERSION:2.0
PRODID:-//http://tainiothiki.gr///NONSGML kigkonsult.se iCalcreator 2.10.15//
METHOD:PUBLISH
BEGIN:VEVENT
UID:20260425T133011EEST-8712weouNd@http://tainiothiki.gr/
DTSTAMP:20260425T103011Z
DESCRIPTION:Ο κινηματογραφικός Καμπανέλλης\nΘΕΡΙΝΟΣ ΚΙΝΗΜΑΤΟΓΡΑΦΟΣ ΛΑΪΣ\n\n
 \n\n\n\n\n\n\n\n\n\n\n\n\n\n\n\n\n\n\n\n\n\n\nΤΡΙΤΗ 28 ΙΟΥΝΙΟΥ\n21.00 Με τ
 η λάμψη στα μάτιαΠάνος Γλυκοφρύδης\, 1966\, 100'\nΠρολογίζει ο Γιάνν
 ης Ζουμπουλάκης\n\n\n\n\n\n\n\n\n\n\n\n\n\n\n\n\n\n\n\n\n\n\n\n\n\n\n\n\n
 \n\n\n\n\n\n\n\n\nΓενική είσοδος: 5€ από το ταμείο του κινηματογράφου (ανο
 ικτό μία ώρα πριν την έναρξη των προβολών) και ηλεκτρονικά από το https://
 tickets.tainiothiki.gr/\nΚατεβάστε τον κατάλογο του αφιερώματος εδώ\n\n\n
 \n\n http://tainiothiki.gr/en/programme/calendar/event/687-
DTSTART:20220628T180000Z
DTEND:20220628T194000Z
LOCATION:Θερινό Λαΐς (ΙΕΡΑ ΟΔΟΣ 48\, 104 35\, ΚΕΡΑΜΕΙΚΟΣ\, ΑΘΗΝΑ	)
SUMMARY:Με τη λάμψη στα μάτια
URL:http://tainiothiki.gr/en/programme/calendar/event/687-
END:VEVENT
END:VCALENDAR
