BEGIN:VCALENDAR
VERSION:2.0
PRODID:-//http://tainiothiki.gr///NONSGML kigkonsult.se iCalcreator 2.10.15//
METHOD:PUBLISH
BEGIN:VEVENT
UID:20260425T133011EEST-9713BOKx7a@http://tainiothiki.gr/
DTSTAMP:20260425T103011Z
DESCRIPTION:Ο κινηματογραφικός Καμπανέλλης\nΘΕΡΙΝΟΣ ΚΙΝΗΜΑΤΟΓΡΑΦΟΣ ΛΑΪΣ\n\n
 \n\n\n\n\n\n\n\n\n\n\n\n\n\n\n\n\n\n\n\n\n\n\nΤΡΙΤΗ 28 ΙΟΥΝΙΟΥ\n\n\n\n\n23
 .00 Το κανόνι και τ’ αηδόνι (Ε)Ιάκωβος Καμπανέλλης\, 1968\, 105'\n\n\n
 \n\n\n\n\n\n\n\n\n\n\n\n\n\n\n\n\n\n\n\n\n\n\n\n\n\n\n\n\n\n\n\n\n\n\n\n\n
 \n\nΓενική είσοδος: 5€ από το ταμείο του κινηματογράφου (ανοικτό μία ώρα π
 ριν την έναρξη των προβολών) και ηλεκτρονικά από το https://tickets.tainio
 thiki.gr/\nΚατεβάστε τον κατάλογο του αφιερώματος εδώ\n\n\n\n\n http://tai
 niothiki.gr/en/programme/calendar/event/688-
DTSTART:20220628T200000Z
DTEND:20220628T205900Z
LOCATION:Θερινό Λαΐς (ΙΕΡΑ ΟΔΟΣ 48\, 104 35\, ΚΕΡΑΜΕΙΚΟΣ\, ΑΘΗΝΑ	)
SUMMARY:Το κανόνι και τ’ αηδόνι (Ε)
URL:http://tainiothiki.gr/en/programme/calendar/event/688-
END:VEVENT
END:VCALENDAR
