BEGIN:VCALENDAR
VERSION:2.0
PRODID:-//http://tainiothiki.gr///NONSGML kigkonsult.se iCalcreator 2.10.15//
METHOD:PUBLISH
BEGIN:VEVENT
UID:20260425T063602EEST-5837r8NmjS@http://tainiothiki.gr/
DTSTAMP:20260425T033602Z
DESCRIPTION:ΣΑΒΒΑΤΟ 10/12\n \n17.30 SAFEable: Προσβασιμότητα και Συμπερίληψ
 η στην Ενημέρωση και Προστασία από την Έμφυλη Βία  (Σκηνοθεσία: Νιόβη Αναζ
 ίκου)\nΜετά την προβολή θα ακολουθήσει συζήτηση με συντονίστρια την Μάρθα 
 Μπάμπη. Θα μιλήσουν η Μαρία Θρασυβουλίδη από τη Liminal\, η Έλια Χαρίδη απ
 ό το Κέντρο Διοτίμα και η σκηνοθέτιδα. Στη συζήτηση θα λάβουν μέρος και εκ
 πρόσωποι φορέων και οργανώσεων ΑμεΑ.\nΤο ντοκιμαντέρ SAFEable δημιουργήθηκ
 ε στο πλαίσιο του ομώνυμου προγράμματος που υλοποιούν το Κέντρο Διοτίμα κα
 ι η liminal  με την υποστήριξη της Alliance for Gender Equality in Europe.
 \nΕίσοδος ελεύθερη\n\nΜάθετε περισσότερα εδώ\nFACEBOOK event Link: ΕΔΩ htt
 p://tainiothiki.gr/en/programme/calendar/event/865-safeable
DTSTART:20221210T153000Z
DTEND:20221210T173000Z
LOCATION:Αίθουσα Α (ΙΕΡΑ ΟΔΟΣ 48\, 104 35\, ΚΕΡΑΜΕΙΚΟΣ\, ΑΘΗΝΑ)
SUMMARY:SAFEable: Προσβασιμότητα και Συμπερίληψη στην Ενημέρωση και Προστασ
 ία από την Έμφυλη Βία  
URL:http://tainiothiki.gr/en/programme/calendar/event/865-safeable
END:VEVENT
END:VCALENDAR
