BEGIN:VCALENDAR
VERSION:2.0
PRODID:-//http://tainiothiki.gr///NONSGML kigkonsult.se iCalcreator 2.10.15//
METHOD:PUBLISH
BEGIN:VEVENT
UID:20260425T063631EEST-6781vk1umv@http://tainiothiki.gr/
DTSTAMP:20260425T033631Z
DESCRIPTION:ΠΑΝΤΕΛΗΣ ΒΟΥΛΓΑΡΗΣ: Ρετροσπεκτίβα \nΑΙΘΟΥΣΑ Α\nΠΑΡΑΣΚΕΥΗ 09/12
 \n19:00 Η φανέλα με το 9 (121’)\nΠρολογίζει ο Νίκος Δούκας-διευθυντής παρα
 γωγής\n\n\n\nΚατεβάστε το πρόγραμμα εδώ\nΓενική είσοδος: 5€Ηλεκτρονική προ
 πώληση: tickets.tainiothiki.gr\nΜάθετε περισσότερα εδώ\n http://tainiothik
 i.gr/en/programme/calendar/event/869-9
DTSTART:20221209T170000Z
DTEND:20221209T191500Z
LOCATION:Αίθουσα Α (ΙΕΡΑ ΟΔΟΣ 48\, 104 35\, ΚΕΡΑΜΕΙΚΟΣ\, ΑΘΗΝΑ)
SUMMARY:Η φανέλα με το 9  | ΠΑΝΤΕΛΗΣ ΒΟΥΛΓΑΡΗΣ: Ρετροσπεκτίβα
URL:http://tainiothiki.gr/en/programme/calendar/event/869-9
END:VEVENT
END:VCALENDAR
