BEGIN:VCALENDAR
VERSION:2.0
PRODID:-//http://tainiothiki.gr///NONSGML kigkonsult.se iCalcreator 2.10.15//
METHOD:PUBLISH
BEGIN:VEVENT
UID:20260425T063602EEST-3009aJtx8X@http://tainiothiki.gr/
DTSTAMP:20260425T033602Z
DESCRIPTION:ΠΑΝΤΕΛΗΣ ΒΟΥΛΓΑΡΗΣ: Ρετροσπεκτίβα \nΑΙΘΟΥΣΑ Α\nΣΑΒΒΑΤΟ 10/12\n1
 9:45 Το προξενιό της Άννας (82’) (Ε)\nΠροβολή με SDH για Κ/κωφά και βαρήκο
 α άτομα\n\n\nΚατεβάστε το πρόγραμμα εδώ\nΓενική είσοδος: 5€Ηλεκτρονική προ
 πώληση: tickets.tainiothiki.gr\nΜάθετε περισσότερα εδώ\n http://tainiothik
 i.gr/en/programme/calendar/event/871-sdh
DTSTART:20221210T173000Z
DTEND:20221210T191500Z
LOCATION:Αίθουσα Α (ΙΕΡΑ ΟΔΟΣ 48\, 104 35\, ΚΕΡΑΜΕΙΚΟΣ\, ΑΘΗΝΑ)
SUMMARY:Το προξενιό της Άννας (Ε\, SDH) | ΠΑΝΤΕΛΗΣ ΒΟΥΛΓΑΡΗΣ: Ρετροσπεκτίβα
 
URL:http://tainiothiki.gr/en/programme/calendar/event/871-sdh
END:VEVENT
END:VCALENDAR
