BEGIN:VCALENDAR
VERSION:2.0
PRODID:-//http://tainiothiki.gr///NONSGML kigkonsult.se iCalcreator 2.10.15//
METHOD:PUBLISH
BEGIN:VEVENT
UID:20260425T064151EEST-5742Uvgu3r@http://tainiothiki.gr/
DTSTAMP:20260425T034151Z
DESCRIPTION:ΠΑΝΤΕΛΗΣ ΒΟΥΛΓΑΡΗΣ: Ρετροσπεκτίβα \nΑΙΘΟΥΣΑ Α\nΚΥΡΙΑΚΗ 11/12\n1
 9:00  Τα πέτρινα χρόνια  (142’\, αγγλικοί υπότιτλοι/with English subtitles
 )\nΠρολογίζουν οι Δημήτρης Καταλειφός-ηθοποιός\, Θέμις Μπαζάκα-ηθοποιός\n
 \n\nΚατεβάστε το πρόγραμμα εδώ\nΓενική είσοδος: 5€Ηλεκτρονική προπώληση: t
 ickets.tainiothiki.gr\nΜάθετε περισσότερα εδώ\n http://tainiothiki.gr/en/p
 rogramme/calendar/event/873-english-subs
DTSTART:20221211T170000Z
DTEND:20221211T193000Z
LOCATION:Αίθουσα Α (ΙΕΡΑ ΟΔΟΣ 48\, 104 35\, ΚΕΡΑΜΕΙΚΟΣ\, ΑΘΗΝΑ)
SUMMARY:Τα πέτρινα χρόνια (English Subs) | ΠΑΝΤΕΛΗΣ ΒΟΥΛΓΑΡΗΣ: Ρετροσπεκτίβ
 α
URL:http://tainiothiki.gr/en/programme/calendar/event/873-english-subs
END:VEVENT
END:VCALENDAR
