BEGIN:VCALENDAR
VERSION:2.0
PRODID:-//http://tainiothiki.gr///NONSGML kigkonsult.se iCalcreator 2.10.15//
METHOD:PUBLISH
BEGIN:VEVENT
UID:20260425T063602EEST-1953U6zgCO@http://tainiothiki.gr/
DTSTAMP:20260425T033602Z
DESCRIPTION:ΠΑΝΤΕΛΗΣ ΒΟΥΛΓΑΡΗΣ: Ρετροσπεκτίβα \nΑΙΘΟΥΣΑ Α\nΚΥΡΙΑΚΗ 11/12\n2
 2:00 Ήσυχες μέρες του Αυγούστου (108’)\nΠρολογίζουν οι Αναστασία Αρσένη-εν
 δυματολόγος\, Μανώλης Μαυροματάκης-ηθοποιός\, Περικλής Χούρσογλου-σκηνοθέτ
 ης\, Xρυσούλα Διαβάτη-ηθοποιός\n\n\n\nΚατεβάστε το πρόγραμμα εδώ\nΓενική ε
 ίσοδος: 5€Ηλεκτρονική προπώληση: tickets.tainiothiki.gr\nΜάθετε περισσότερ
 α εδώ\n http://tainiothiki.gr/en/programme/calendar/event/874-
DTSTART:20221211T200000Z
DTEND:20221211T214000Z
LOCATION:Αίθουσα Α (ΙΕΡΑ ΟΔΟΣ 48\, 104 35\, ΚΕΡΑΜΕΙΚΟΣ\, ΑΘΗΝΑ)
SUMMARY:Ήσυχες μέρες του Αυγούστου  | ΠΑΝΤΕΛΗΣ ΒΟΥΛΓΑΡΗΣ: Ρετροσπεκτίβα
URL:http://tainiothiki.gr/en/programme/calendar/event/874-
END:VEVENT
END:VCALENDAR
