BEGIN:VCALENDAR
VERSION:2.0
PRODID:-//http://tainiothiki.gr///NONSGML kigkonsult.se iCalcreator 2.10.15//
METHOD:PUBLISH
BEGIN:VEVENT
UID:20260425T063631EEST-7357dz5FCJ@http://tainiothiki.gr/
DTSTAMP:20260425T033631Z
DESCRIPTION:ΠΑΝΤΕΛΗΣ ΒΟΥΛΓΑΡΗΣ: Ρετροσπεκτίβα \nΑΙΘΟΥΣΑ Α\nΔΕΥΤΕΡΑ 12/12\n1
 9:00  Όλα είναι δρόμος (118’)\nΚαθολικά προσβάσιμη προβολή: SDH για Κ/κωφά
  και βαρήκοα άτομα\, AD για άτομα με προβλήματα όρασης\nΠρολογίζουν οι Γιώ
 ργος Αρμένης-ηθοποιός\, Αθηνά Καρτάλου-Γεν. Διευθύντρια ΕΚΚ\, Γιώργος Φρέν
 τζος-διευθυντής φωτογραφίας \n\n\n\n\nΚατεβάστε το πρόγραμμα εδώ\nΓενική ε
 ίσοδος: 5€Ηλεκτρονική προπώληση: tickets.tainiothiki.gr\nΜάθετε περισσότερ
 α εδώ\n http://tainiothiki.gr/en/programme/calendar/event/875-
DTSTART:20221212T170000Z
DTEND:20221212T190000Z
LOCATION:Αίθουσα Α (ΙΕΡΑ ΟΔΟΣ 48\, 104 35\, ΚΕΡΑΜΕΙΚΟΣ\, ΑΘΗΝΑ)
SUMMARY:Όλα είναι δρόμος (Καθολικά προσβάσιμη) | ΠΑΝΤΕΛΗΣ ΒΟΥΛΓΑΡΗΣ: Ρετροσ
 πεκτίβα
URL:http://tainiothiki.gr/en/programme/calendar/event/875-
END:VEVENT
END:VCALENDAR
