BEGIN:VCALENDAR
VERSION:2.0
PRODID:-//http://tainiothiki.gr///NONSGML kigkonsult.se iCalcreator 2.10.15//
METHOD:PUBLISH
BEGIN:VEVENT
UID:20260425T064129EEST-2604tZ42Fo@http://tainiothiki.gr/
DTSTAMP:20260425T034129Z
DESCRIPTION:ΠΑΝΤΕΛΗΣ ΒΟΥΛΓΑΡΗΣ: Ρετροσπεκτίβα \nΑΙΘΟΥΣΑ Α\nΔΕΥΤΕΡΑ 12/12\n2
 1:30 Ψυχή βαθιά (124’\, αγγλικοί υπότιτλοι/with English subtitles)\nΠρολογ
 ίζουν οι Γιώργος Αγγέλκος-ηθοποιός\, Χρήστος Καρτέρης-ηθοποιός\, Πέπη Ρηγο
 πούλου-ακαδημαϊκός \n\n\n\nΚατεβάστε το πρόγραμμα εδώ\nΓενική είσοδος: 5€Η
 λεκτρονική προπώληση: tickets.tainiothiki.gr\nΜάθετε περισσότερα εδώ\n htt
 p://tainiothiki.gr/en/programme/calendar/event/876-english-subs
DTSTART:20221212T193000Z
DTEND:20221212T214000Z
LOCATION:Αίθουσα Α (ΙΕΡΑ ΟΔΟΣ 48\, 104 35\, ΚΕΡΑΜΕΙΚΟΣ\, ΑΘΗΝΑ)
SUMMARY:Ψυχή βαθιά (English subs) | ΠΑΝΤΕΛΗΣ ΒΟΥΛΓΑΡΗΣ: Ρετροσπεκτίβα
URL:http://tainiothiki.gr/en/programme/calendar/event/876-english-subs
END:VEVENT
END:VCALENDAR
