BEGIN:VCALENDAR
VERSION:2.0
PRODID:-//http://tainiothiki.gr///NONSGML kigkonsult.se iCalcreator 2.10.15//
METHOD:PUBLISH
BEGIN:VEVENT
UID:20260425T063631EEST-345062bAEN@http://tainiothiki.gr/
DTSTAMP:20260425T033631Z
DESCRIPTION:ΠΑΝΤΕΛΗΣ ΒΟΥΛΓΑΡΗΣ: Ρετροσπεκτίβα \nΑΙΘΟΥΣΑ Α\nΤΡΙΤΗ 13/12\n21:
 30  Νύφες (128’)\nΠρολογίζει η Εύη Σαουλίδου-ηθοποιός\n\n\n\nΚατεβάστε το 
 πρόγραμμα εδώ\nΓενική είσοδος: 5€Ηλεκτρονική προπώληση: tickets.tainiothik
 i.gr\nΜάθετε περισσότερα εδώ\n http://tainiothiki.gr/en/programme/calendar
 /event/878-
DTSTART:20221213T193000Z
DTEND:20221213T214500Z
LOCATION:Αίθουσα Α (ΙΕΡΑ ΟΔΟΣ 48\, 104 35\, ΚΕΡΑΜΕΙΚΟΣ\, ΑΘΗΝΑ)
SUMMARY:Νύφες | ΠΑΝΤΕΛΗΣ ΒΟΥΛΓΑΡΗΣ: Ρετροσπεκτίβα
URL:http://tainiothiki.gr/en/programme/calendar/event/878-
END:VEVENT
END:VCALENDAR
