BEGIN:VCALENDAR
VERSION:2.0
PRODID:-//http://tainiothiki.gr///NONSGML kigkonsult.se iCalcreator 2.10.15//
METHOD:PUBLISH
BEGIN:VEVENT
UID:20260425T065013EEST-2354H0Pm9I@http://tainiothiki.gr/
DTSTAMP:20260425T035013Z
DESCRIPTION:ΠΑΝΤΕΛΗΣ ΒΟΥΛΓΑΡΗΣ: Ρετροσπεκτίβα \nΑΙΘΟΥΣΑ Α\nΤΕΤΑΡΤΗ 14/12\n
 \n19:00  Χάππυ Νταίη (105’\, γαλλικοί υπότιτλοι / with French subtitles)\n
 Προλογίζουν οι Διονύσης Σαββόπουλος-συνθέτης και Μαρία Κομνηνού-Πρόεδρος Δ
 Σ Ταινιοθήκης της Ελλάδος\n\n\n\nΚατεβάστε το πρόγραμμα εδώ\nΓενική είσοδο
 ς: 5€Ηλεκτρονική προπώληση: tickets.tainiothiki.gr\nΜάθετε περισσότερα εδώ
 \n http://tainiothiki.gr/en/programme/calendar/event/879-french-subs
DTSTART:20221214T170000Z
DTEND:20221214T184500Z
LOCATION:Αίθουσα Α (ΙΕΡΑ ΟΔΟΣ 48\, 104 35\, ΚΕΡΑΜΕΙΚΟΣ\, ΑΘΗΝΑ)
SUMMARY:Χάππυ Νταίη (French subs) | ΠΑΝΤΕΛΗΣ ΒΟΥΛΓΑΡΗΣ: Ρετροσπεκτίβα
URL:http://tainiothiki.gr/en/programme/calendar/event/879-french-subs
END:VEVENT
END:VCALENDAR
