BEGIN:VCALENDAR
VERSION:2.0
PRODID:-//http://tainiothiki.gr///NONSGML kigkonsult.se iCalcreator 2.10.15//
METHOD:PUBLISH
BEGIN:VEVENT
UID:20260425T063631EEST-4300HvvXB2@http://tainiothiki.gr/
DTSTAMP:20260425T033631Z
DESCRIPTION:ΠΑΝΤΕΛΗΣ ΒΟΥΛΓΑΡΗΣ: Ρετροσπεκτίβα \nΑΙΘΟΥΣΑ Α\nΤΕΤΑΡΤΗ 14/12\n2
 1:00  Μικρά Αγγλία (132’)\nΚαθολικά προσβάσιμη προβολή: SDH για Κ/κωφά και
  βαρήκοα άτομα\, AD για άτομα με προβλήματα όρασης\nΠρολογίζουν οι Αντώνης
  Δαγκλίδης-σκηνογράφος\, Σοφία Κόκκαλη-ηθοποιός\, Ανδρέας Κωνσταντίνου-ηθο
 ποιός\, Πηνελόπη Τσιλίκα-ηθοποιός\nΕρμηνεύει στο πιάνο η Κατερίνα Πολέμη-μ
 ουσικός\n\n\n\nΚατεβάστε το πρόγραμμα εδώ\nΓενική είσοδος: 5€Ηλεκτρονική π
 ροπώληση: tickets.tainiothiki.gr\nΜάθετε περισσότερα εδώ\n http://tainioth
 iki.gr/en/programme/calendar/event/880-
DTSTART:20221214T190000Z
DTEND:20221214T213000Z
LOCATION:Αίθουσα Α (ΙΕΡΑ ΟΔΟΣ 48\, 104 35\, ΚΕΡΑΜΕΙΚΟΣ\, ΑΘΗΝΑ)
SUMMARY:Μικρά Αγγλία (Καθολικά προσβάσιμη) | ΠΑΝΤΕΛΗΣ ΒΟΥΛΓΑΡΗΣ: Ρετροσπεκτ
 ίβα
URL:http://tainiothiki.gr/en/programme/calendar/event/880-
END:VEVENT
END:VCALENDAR
