BEGIN:VCALENDAR
VERSION:2.0
PRODID:-//http://tainiothiki.gr///NONSGML kigkonsult.se iCalcreator 2.10.15//
METHOD:PUBLISH
BEGIN:VEVENT
UID:20260425T063631EEST-0182JVkukx@http://tainiothiki.gr/
DTSTAMP:20260425T033631Z
DESCRIPTION:ΠΑΝΤΕΛΗΣ ΒΟΥΛΓΑΡΗΣ: Ρετροσπεκτίβα \nΑΙΘΟΥΣΑ Α\nΠΕΜΠΤΗ 15/12\n19
 :00 Μικρού μήκους\nΟ κλέφτης (20’)Τζίμης ο τίγρης (15’)Ce n' est pas que l
 e debut (12’)Ο χορός των τράγων (22’)\nΠρολογίζουν οι Νίκος Καβουκίδης-διε
 υθυντής φωτογραφίας\, Εύα Στεφανή-σκηνοθέτις \n\n\n\nΚατεβάστε το πρόγραμμ
 α εδώ\nΓενική είσοδος: 5€Ηλεκτρονική προπώληση: tickets.tainiothiki.gr\nΜά
 θετε περισσότερα εδώ\n http://tainiothiki.gr/en/programme/calendar/event/8
 81-
DTSTART:20221215T170000Z
DTEND:20221215T183000Z
LOCATION:Αίθουσα Α (ΙΕΡΑ ΟΔΟΣ 48\, 104 35\, ΚΕΡΑΜΕΙΚΟΣ\, ΑΘΗΝΑ)
SUMMARY:Μικρού μήκους ταινίες | ΠΑΝΤΕΛΗΣ ΒΟΥΛΓΑΡΗΣ: Ρετροσπεκτίβα
URL:http://tainiothiki.gr/en/programme/calendar/event/881-
END:VEVENT
END:VCALENDAR
