BEGIN:VCALENDAR
VERSION:2.0
PRODID:-//http://tainiothiki.gr///NONSGML kigkonsult.se iCalcreator 2.10.15//
METHOD:PUBLISH
BEGIN:VEVENT
UID:20260425T063631EEST-8138jhFK0P@http://tainiothiki.gr/
DTSTAMP:20260425T033631Z
DESCRIPTION:ΠΑΝΤΕΛΗΣ ΒΟΥΛΓΑΡΗΣ: Ρετροσπεκτίβα \nΑΙΘΟΥΣΑ Α\nΠΕΜΠΤΗ 15/12\n21
 :00 Όλα είναι δρόμος (118'\, Ε)Καθολικά προσβάσιμη προβολή: SDH για Κ/κωφά
  και βαρήκοα άτομα\, AD για άτομα με προβλήματα όρασης\n\n\n\nΚατεβάστε το
  πρόγραμμα εδώ\nΓενική είσοδος: 5€Ηλεκτρονική προπώληση: tickets.tainiothi
 ki.gr\nΜάθετε περισσότερα εδώ\n http://tainiothiki.gr/en/programme/calenda
 r/event/882-
DTSTART:20221215T190000Z
DTEND:20221215T211500Z
LOCATION:Αίθουσα Α (ΙΕΡΑ ΟΔΟΣ 48\, 104 35\, ΚΕΡΑΜΕΙΚΟΣ\, ΑΘΗΝΑ)
SUMMARY:Όλα είναι δρόμος (Ε\, Καθολικά προσβάσιμη) | ΠΑΝΤΕΛΗΣ ΒΟΥΛΓΑΡΗΣ: Ρε
 τροσπεκτίβα
URL:http://tainiothiki.gr/en/programme/calendar/event/882-
END:VEVENT
END:VCALENDAR
