BEGIN:VCALENDAR
VERSION:2.0
PRODID:-//http://tainiothiki.gr///NONSGML kigkonsult.se iCalcreator 2.10.15//
METHOD:PUBLISH
BEGIN:VEVENT
UID:20260425T064029EEST-8073xfxH1z@http://tainiothiki.gr/
DTSTAMP:20260425T034029Z
DESCRIPTION:ΠΑΝΤΕΛΗΣ ΒΟΥΛΓΑΡΗΣ: Ρετροσπεκτίβα \nΑΙΘΟΥΣΑ Α\nΠΑΡΑΣΚΕΥΗ 16/12
 \n20:00 Ελευθέριος Βενιζέλος 1910-1927 (175') \n\n\nΚατεβάστε το πρόγραμμα
  εδώ\nΓενική είσοδος: 5€Ηλεκτρονική προπώληση: tickets.tainiothiki.gr\nΜάθ
 ετε περισσότερα εδώ\n http://tainiothiki.gr/en/programme/calendar/event/88
 3-1910-1927
DTSTART:20221216T180000Z
DTEND:20221216T210000Z
LOCATION:Αίθουσα Α (ΙΕΡΑ ΟΔΟΣ 48\, 104 35\, ΚΕΡΑΜΕΙΚΟΣ\, ΑΘΗΝΑ)
SUMMARY:Ελευθέριος Βενιζέλος 1910-1927| Παράταση - ΠΑΝΤΕΛΗΣ ΒΟΥΛΓΑΡΗΣ: Ρετρ
 οσπεκτίβα
URL:http://tainiothiki.gr/en/programme/calendar/event/883-1910-1927
END:VEVENT
END:VCALENDAR
