BEGIN:VCALENDAR
VERSION:2.0
PRODID:-//http://tainiothiki.gr///NONSGML kigkonsult.se iCalcreator 2.10.15//
METHOD:PUBLISH
BEGIN:VEVENT
UID:20260424T192803EEST-7656P3PoLn@http://tainiothiki.gr/
DTSTAMP:20260424T162803Z
DESCRIPTION:ΑΙΘΟΥΣΑ Β\nΠΕΜΠΤΗ 05/01 - ΤΕΤΑΡΤΗ 11/01\n21:15 La nuit du 12 | 
 Η Νύχτα της 12ης (Ντομινίκ Μολ\, 115') CINOBO\n\n\n \nΥπόθεση\nΟ νεαρός κα
 ι φιλόδοξος αστυνόμος Βιβέ έχει μόλις διοριστεί επικεφαλής της εγκληματολο
 γικής ομάδας της Γκρενόμπλ\, όταν η υπόθεση δολοφονίας της Κλάρα φτάνει στ
 ο γραφείο του. Ο Βιβέ και η ομάδα του ερευνούν την πολύπλοκη ζωή της Κλάρα
 \, αλλά αυτό που ξεκινά ως επαγγελματική μελέτη της ζωής του θύματος σύντο
 μα μετατρέπεται σε έμμονη ιδέα. Συναρπαστικό\, δαιδαλώδες αστυνομικό θρίλε
 ρ του Ντομινίκ Μολ (Από Άλλο Πλανήτη\, Χάρι\, ο Καλύτερος Φίλος του Ανθρώπ
 ου) που θυμίζει ταινίες όπως το Zodiac και το Μνήμες Φόνων\, ακολουθώντας 
 δύο σκληρούς Γάλλους ντετέκτιβ αντιμέτωπους με μια φρικιαστική δολοφονία\,
  καθώς η λύση της υπόθεσης γλιστράει διαρκώς μέσα από τα χέρια τους.\n\nΑσ
 τυνομικό\, Δράμα\, Μυστηρίου2022 | 1ω 55λΣκηνοθεσία: Ντόμινικ ΜολΜε τους: 
 Μπαστιάν Μπουγιόν\, Μπούλι Λάνερς\, Ανούκ Γκρίνμπεργκ\n\n\n-Είσοδος για όλ
 ες τις αίθουσες: 7€\, 5€* (μειωμένο)Κάθε Πέμπτη ισχύει προσφορά εισόδου γι
 α 2 άτομα με ένα εισιτήριο στα 7€*Το μειωμένο εισιτήριο αφορά στις παρακάτ
 ω κατηγορίες:μαθητές\, φοιτητές\, άτομα άνω των 65 ετών\, άνεργοι\, άνθρωπ
 οι με αναπηρία – ΑμεΑ (ισχύει και για έναν/μία συνοδό)\, δάσκαλοι-καθηγητέ
 ς\, ατέλειες.Προνόμια μελών σε ΜΜΕ- Αθηνόραμα Club (Αθηνόραμα): Από Δευτέρ
 α έως και Πέμπτη\, ειδική τιμή € 5Κλείστε ηλεκτρονικά τα εισιτήριά σας στο
 : https://tickets.tainiothiki.gr/\nΣημειώνεται πως οι δικαιούχοι μειωμένου
  εισιτηρίου\, θα πρέπει να προμηθευτούν τα εισιτήριά τους από το ταμείο τη
 ς Ταινιοθήκης.  http://tainiothiki.gr/en/programme/calendar/event/909-la-n
 uit-du-12-12
DTSTART:20230105T191500Z
DTEND:20230111T191500Z
LOCATION:Αίθουσα Β (ΙΕΡΑ ΟΔΟΣ 48\, 104 35\, ΚΕΡΑΜΕΙΚΟΣ\, ΑΘΗΝΑ)
SUMMARY:La nuit du 12 | Η Νύχτα της 12ης 
URL:http://tainiothiki.gr/en/programme/calendar/event/909-la-nuit-du-12-12
END:VEVENT
END:VCALENDAR
