BEGIN:VCALENDAR
VERSION:2.0
PRODID:-//http://tainiothiki.gr///NONSGML kigkonsult.se iCalcreator 2.10.15//
METHOD:PUBLISH
BEGIN:VEVENT
UID:20260422T185636EEST-6360hgFf55@http://tainiothiki.gr/
DTSTAMP:20260422T155636Z
DESCRIPTION:ΜΑΡΤΑ ΜΕΣΑΡΟΣ: Η γυναίκα στο επίκεντρο της Ιστορίας\nΠέμπτη 19/
 1 \n19.30 Αξεδιάλυτα συναισθήματα (Binding Sentiments\, 1969\, 82’)\n\n\n 
 Περισσότερα για το αφιέρωμα εδώ.\nΓενική είσοδος: 5€\nΗλεκτρονική προπώλησ
 η: tickets.tainiothiki.gr\nΤαινιοθήκη της ΕλλάδοςΙερά Οδός 48 και Μεγάλου 
 Αλεξάνδρου\, μετρό Κεραμεικός\, τηλ. 210 3612046 http://tainiothiki.gr/en/
 programme/calendar/event/920-binding-sentiments
DTSTART:20230119T173000Z
DTEND:20230119T190000Z
LOCATION:Αίθουσα Α (ΙΕΡΑ ΟΔΟΣ 48\, 104 35\, ΚΕΡΑΜΕΙΚΟΣ\, ΑΘΗΝΑ)
SUMMARY:Αξεδιάλυτα συναισθήματα - Binding Sentiments | ΜΑΡΤΑ ΜΕΣΑΡΟΣ
URL:http://tainiothiki.gr/en/programme/calendar/event/920-binding-sentiment
 s
END:VEVENT
END:VCALENDAR
