BEGIN:VCALENDAR
VERSION:2.0
PRODID:-//http://tainiothiki.gr///NONSGML kigkonsult.se iCalcreator 2.10.15//
METHOD:PUBLISH
BEGIN:VEVENT
UID:20260422T201849EEST-5021bdcbvN@http://tainiothiki.gr/
DTSTAMP:20260422T171849Z
DESCRIPTION:ΜΑΡΤΑ ΜΕΣΑΡΟΣ: Η γυναίκα στο επίκεντρο της Ιστορίας\nΠαρασκευή 
 20/1\n19.00 Στη μνήμη του Λάσλο Μέσαρος (In memoriam László Mészáros\, 196
 8\, 13’) \nΣαν στο σπίτι (Just like home\, 1978\, 108’)\nΠρολογίζει η σκην
 οθέτης Όλγα Μαλέα\, Tαμίας ΔΣ WIFT GR\n\n\n Περισσότερα για το αφιέρωμα εδ
 ώ.\nΓενική είσοδος: 5€\nΗλεκτρονική προπώληση: tickets.tainiothiki.gr\nΤαι
 νιοθήκη της ΕλλάδοςΙερά Οδός 48 και Μεγάλου Αλεξάνδρου\, μετρό Κεραμεικός\
 , τηλ. 210 3612046 http://tainiothiki.gr/en/programme/calendar/event/922-
DTSTART:20230120T170000Z
DTEND:20230120T190000Z
LOCATION:Αίθουσα Α (ΙΕΡΑ ΟΔΟΣ 48\, 104 35\, ΚΕΡΑΜΕΙΚΟΣ\, ΑΘΗΝΑ)
SUMMARY:Σαν στο σπίτι & Στη μνήμη του Λάσλο Μέσαρος  | ΜΑΡΤΑ ΜΕΣΑΡΟΣ
URL:http://tainiothiki.gr/en/programme/calendar/event/922-
END:VEVENT
END:VCALENDAR
