BEGIN:VCALENDAR
VERSION:2.0
PRODID:-//http://tainiothiki.gr///NONSGML kigkonsult.se iCalcreator 2.10.15//
METHOD:PUBLISH
BEGIN:VEVENT
UID:20260424T162958EEST-2493ldBcFc@http://tainiothiki.gr/
DTSTAMP:20260424T132958Z
DESCRIPTION:ΜΑΡΤΑ ΜΕΣΑΡΟΣ: Η γυναίκα στο επίκεντρο της Ιστορίας\nΚυριακή 22
 /1\n21.30 Το κορίτσι (The Girl\, 1968\, 80’) \nΠρολογίζει η σκηνοθέτης Αση
 μίνα Προέδρου \n\n\n Περισσότερα για το αφιέρωμα εδώ.\nΓενική είσοδος: 5€
 \nΗλεκτρονική προπώληση: tickets.tainiothiki.gr\nΤαινιοθήκη της ΕλλάδοςΙερ
 ά Οδός 48 και Μεγάλου Αλεξάνδρου\, μετρό Κεραμεικός\, τηλ. 210 3612046 htt
 p://tainiothiki.gr/en/programme/calendar/event/927-the-girl
DTSTART:20230122T193000Z
DTEND:20230122T210000Z
LOCATION:Αίθουσα Α (ΙΕΡΑ ΟΔΟΣ 48\, 104 35\, ΚΕΡΑΜΕΙΚΟΣ\, ΑΘΗΝΑ)
SUMMARY:Το κορίτσι - The Girl | ΜΑΡΤΑ ΜΕΣΑΡΟΣ
URL:http://tainiothiki.gr/en/programme/calendar/event/927-the-girl
END:VEVENT
END:VCALENDAR
