BEGIN:VCALENDAR
VERSION:2.0
PRODID:-//http://tainiothiki.gr///NONSGML kigkonsult.se iCalcreator 2.10.15//
METHOD:PUBLISH
BEGIN:VEVENT
UID:20260424T180905EEST-4009rb9mvv@http://tainiothiki.gr/
DTSTAMP:20260424T150905Z
DESCRIPTION:ΜΑΡΤΑ ΜΕΣΑΡΟΣ: Η γυναίκα στο επίκεντρο της Ιστορίας\nΔευτέρα 23
 /1\n21.30 Μην κλαίτε\, όμορφες! (Don't cry\, Pretty girls!\, 1970\, 85’) 
 \nΠρολογίζει η μουσικός Nalyssa Green\n\n\n Περισσότερα για το αφιέρωμα εδ
 ώ.\nΓενική είσοδος: 5€\nΗλεκτρονική προπώληση: tickets.tainiothiki.gr\nΤαι
 νιοθήκη της ΕλλάδοςΙερά Οδός 48 και Μεγάλου Αλεξάνδρου\, μετρό Κεραμεικός\
 , τηλ. 210 3612046 http://tainiothiki.gr/en/programme/calendar/event/929-d
 on-t-cry-pretty-girls
DTSTART:20230123T193000Z
DTEND:20230123T210000Z
LOCATION:Αίθουσα Α (ΙΕΡΑ ΟΔΟΣ 48\, 104 35\, ΚΕΡΑΜΕΙΚΟΣ\, ΑΘΗΝΑ)
SUMMARY:Μην κλαίτε\, όμορφες! - Don't cry\, Pretty girls! | ΜΑΡΤΑ ΜΕΣΑΡΟΣ
URL:http://tainiothiki.gr/en/programme/calendar/event/929-don-t-cry-pretty-
 girls
END:VEVENT
END:VCALENDAR
