BEGIN:VCALENDAR
VERSION:2.0
PRODID:-//http://tainiothiki.gr///NONSGML kigkonsult.se iCalcreator 2.10.15//
METHOD:PUBLISH
BEGIN:VEVENT
UID:20260424T192803EEST-5323rPrdl3@http://tainiothiki.gr/
DTSTAMP:20260424T162803Z
DESCRIPTION:ΜΑΡΤΑ ΜΕΣΑΡΟΣ: Η γυναίκα στο επίκεντρο της Ιστορίας\nΤρίτη 24/1
 \n19.00 Δύο γυναίκες (The two of them\, 1977\, 92’)\nΠρολογίζει η Υπεύθυνη
  Επικοινωνίας του Κέντρου Διοτίμα\, Νατάσα Κεφαλληνού\n\n\n Περισσότερα γι
 α το αφιέρωμα εδώ.\nΓενική είσοδος: 5€\nΗλεκτρονική προπώληση: tickets.tai
 niothiki.gr\nΤαινιοθήκη της ΕλλάδοςΙερά Οδός 48 και Μεγάλου Αλεξάνδρου\, μ
 ετρό Κεραμεικός\, τηλ. 210 3612046 http://tainiothiki.gr/en/programme/cale
 ndar/event/930-the-two-of-them
DTSTART:20230124T170000Z
DTEND:20230124T184500Z
LOCATION:Αίθουσα Α (ΙΕΡΑ ΟΔΟΣ 48\, 104 35\, ΚΕΡΑΜΕΙΚΟΣ\, ΑΘΗΝΑ)
SUMMARY:Δύο γυναίκες - The two of them | ΜΑΡΤΑ ΜΕΣΑΡΟΣ
URL:http://tainiothiki.gr/en/programme/calendar/event/930-the-two-of-them
END:VEVENT
END:VCALENDAR
