BEGIN:VCALENDAR
VERSION:2.0
PRODID:-//http://tainiothiki.gr///NONSGML kigkonsult.se iCalcreator 2.10.15//
METHOD:PUBLISH
BEGIN:VEVENT
UID:20260422T123428EEST-5587bOpTUb@http://tainiothiki.gr/
DTSTAMP:20260422T093428Z
DESCRIPTION:Πέρασμα στην Ινδία με την ματιά του Σατγιαζίτ Ρέι\nΑΙΘΟΥΣΑ Α\nΠ
 ΑΡΑΣΚΕΥΗ 17/2\n21:30 | Το τραγούδι του δρόμου - SONG OF THE LITTLE ROAD (P
 ATHER PANCHALI\, 126’)Προλογίζει ο καλλιτεχνικός διευθυντής του Φεστιβάλ Κ
 ινηματογράφου Ολυμπίας για Παιδιά και Νέους Δημήτρης Σπύρου \n\n\n\nΕΙΣΙΤΗ
 ΡΙΑ | TICKETS\n\nΓενική είσοδος | General Admission: 5€ Κάρτα 5 ταινιών | 
 5 Film Bundle: 12€Ηλεκτρονική προπώληση | Online Booking: https://tickets.
 tainiothiki.gr/\n\nΠερισσότερα για το αφιέρωμα\n\nΚατεβάστε τον κατάλογο ε
 δώ \n\n http://tainiothiki.gr/en/programme/calendar/event/956-song-of-the-
 little-road-pather-panchali
DTSTART:20230217T193000Z
DTEND:20230217T214000Z
LOCATION:Αίθουσα Α (ΙΕΡΑ ΟΔΟΣ 48\, 104 35\, ΚΕΡΑΜΕΙΚΟΣ\, ΑΘΗΝΑ)
SUMMARY:Το τραγούδι του δρόμου / Song of the Little Road / Pather Panchali 
 - ΑΦΙΕΡΩΜΑ ΣΑΤΓΙΑΖΙΤ ΡΕΪ
URL:http://tainiothiki.gr/en/programme/calendar/event/956-song-of-the-littl
 e-road-pather-panchali
END:VEVENT
END:VCALENDAR
